BEGIN:VCALENDAR
VERSION:2.0
PRODID:-//wp-events-plugin.com//6.4.6.4//EN
TZID:Europe/London
X-WR-TIMEZONE:Europe/London
BEGIN:VEVENT
UID:4@looesailingclub.co.uk
DTSTART;TZID=Europe/London:20240411T183000
DTEND;TZID=Europe/London:20240411T194500
DTSTAMP:20240225T142547Z
URL:https://www.looesailingclub.co.uk/events/first-evening-race-2024/
SUMMARY:First Evening Race 2024
DESCRIPTION:First Evening Race 2024
END:VEVENT
BEGIN:VTIMEZONE
TZID:Europe/London
X-LIC-LOCATION:Europe/London
BEGIN:DAYLIGHT
DTSTART:20240331T020000
TZOFFSETFROM:+0000
TZOFFSETTO:+0100
TZNAME:BST
END:DAYLIGHT
END:VTIMEZONE
END:VCALENDAR